BEGIN:VCALENDAR
VERSION:2.0
PRODID:-//Stadtgeschichte München//DE
CALSCALE:GREGORIAN
BEGIN:VEVENT
UID:8888@stadtgeschichte-muenchen.de
SUMMARY:München im Mittelalter
DESCRIPTION:München wurde 1158 als Markt gegründet und stieg bald zur Hauptstadt und wichtigen Metropole auf. Bei einem Rundgang durch das mittelalterliche München sollen Geschichte und deren sichtbare Spuren bis zur Gegenwart vor Augen geführt werden. Am Beginnt steht ein Blick in eine Ausstellung über das heutige München.
DTSTART:20140305T160000
DTEND:20140305T000000
LOCATION:Rathausgalerie, Prunkhof, Rathaus, Marienplatz
ORGANIZER:Dr. Reinhard Bauer
END:VEVENT
END:VCALENDAR