BEGIN:VCALENDAR
VERSION:2.0
PRODID:-//Stadtgeschichte München//DE
CALSCALE:GREGORIAN
BEGIN:VEVENT
UID:8889@stadtgeschichte-muenchen.de
SUMMARY:Haidhausen
DESCRIPTION:Von der Vorstadt zur Hauptstadt. Mit Haimo Liebich und Hermann Wilhelm
DTSTART:20140308T123000
DTEND:20140308T000000
LOCATION:Weißenburger Platz 
ORGANIZER:Dr. Reinhard Bauer
END:VEVENT
END:VCALENDAR