BEGIN:VCALENDAR
VERSION:2.0
PRODID:-//Stadtgeschichte München//DE
CALSCALE:GREGORIAN
BEGIN:VEVENT
UID:8890@stadtgeschichte-muenchen.de
SUMMARY:Das St.Benno-Viertel
DESCRIPTION:Das Gebiet, das ursprünglich in der Gemarkung Neuhausen lag wird von der neuromanischen St. Benno-Kirche des Architekten Leonhard Romeis beherrscht. Hier entstand im 19. Jahrhundert die Königliche Erzgießerei, die durch die Familie v. Miller mit dem Guss der Bavaria zur weltweiten Bedeutung geführt wurde. Neben Brauereien wuchs ein Arbeiterviertel mit eigenem Reiz. Bei einem Spaziergang werden bedeutende Bauten und Persönlichkeiten (wie Lena Christ) vorgestellt.&nbsp;
DTSTART:20140308T160000
DTEND:20140308T000000
LOCATION: Stiglmaierplatz/ Dachauer Straße
ORGANIZER:Dr. Reinhard Bauer
END:VEVENT
END:VCALENDAR