BEGIN:VCALENDAR
VERSION:2.0
PRODID:-//Stadtgeschichte München//DE
CALSCALE:GREGORIAN
BEGIN:VEVENT
UID:8891@stadtgeschichte-muenchen.de
SUMMARY:Schwabing Nord und der Petuelpark
DESCRIPTION:Der Nordwesten Schwabings wurde erst im Laufe des 20. Jahrhunderts dichter bebaut. Neben Wohnhäusern entstanden wichtige öffentliche Bauten wie das Schwabinger Krankenhaus, das MPI, das Seniorenheim in der Rümannstraße und die Pfennigparade. Wichtig sind aber besonders Grünanlagen wie der Petuelpark mit seinen Kunstwerken. Bei einem Rundgang werden besonders Gebäude und Kunstwerke vorgestellt.
DTSTART:20140309T160000
DTEND:20140309T000000
LOCATION:U-Scheidplatz, Südost-Ausgang
ORGANIZER:Dr. Reinhard Bauer
END:VEVENT
END:VCALENDAR