BEGIN:VCALENDAR
VERSION:2.0
PRODID:-//Stadtgeschichte München//DE
CALSCALE:GREGORIAN
BEGIN:VEVENT
UID:8892@stadtgeschichte-muenchen.de
SUMMARY:Vom Dorffriedhof zum Prominentenfriedhof
DESCRIPTION:Mit Haimo Liebich
DTSTART:20140314T160000
DTEND:20140314T000000
LOCATION: Bogenhauser Kirchplatz Bogenhausener Friedhof
ORGANIZER:Dr. Reinhard Bauer
END:VEVENT
END:VCALENDAR