BEGIN:VCALENDAR
VERSION:2.0
PRODID:-//Stadtgeschichte München//DE
CALSCALE:GREGORIAN
BEGIN:VEVENT
UID:8902@stadtgeschichte-muenchen.de
SUMMARY:Parkstadt Bogenhausen
DESCRIPTION:&lt;p&gt;Die Parkstadt Bogenhausen entstand Mitte der 1950er Jahre als Großwohnanlage, um der drängenden Wohnraumknappheit entgegenzuwirken. Fürdie damalige Zeitwar der Wohnstandard in den einzelnen Wohnungen und innerhalb des Viertel hoch, u.a. mit großzügigen Grünflächen, zentralen Versorgungseinrichtungen, Zentralwäscherei, Kindergarten und Schule (Grund- und Mittelschule Stuntzstraße). Die Gesamtplanung der Siedlung lag bei FranzRuf. Von seinem Bruder Sep Rufstammt die katholische Pfarrkiche St. Johann von Capistran. EineBewohnerin führt zusammen mit einerArchitektin durch das Viertel und erlaubt einen Blick in ihre Wohnung mit originaler Raumaufteilung und Heißluftheizung. Sie ist eine der Nachkommen der „Zuagroasten“, wegen derer die Siedlung auch „Preußensiedlung“ genannt wurde.&lt;/p&gt; 
DTSTART:20140514T180000
DTEND:20140514T193000
LOCATION:vor St. Johann von Capistrant Gotthelfstr. 3
ORGANIZER:MVHS München Ost
END:VEVENT
END:VCALENDAR