BEGIN:VCALENDAR
VERSION:2.0
PRODID:-//Stadtgeschichte München//DE
CALSCALE:GREGORIAN
BEGIN:VEVENT
UID:8907@stadtgeschichte-muenchen.de
SUMMARY:Das Prinzregententheater
DESCRIPTION:&lt;p&gt;Das über hundertjährige Prinzregententheater mit seiner modernen Theatertechnik ist neben dem Bayreuther Festspielhaus der einzige Theaterbau, der die Theateridee Richard Wagners und die damit verbundene Architektur aufgreift. Heute ist esSitzder Bayerischen Theaterakademie, einer Ausbildungsstätte für neun Theaterberufe. Die Besucher erhalten Einblickin den amphitheatralischen Zuschauerraum,die Bühne und - je nach Möglichkeit - in einenTeil der Werkstätten, in das Akademietheater und einige Betriebsräume.Der Weg führt zum Teil über enge Treppen und durch schmale Gänge und ist daher für Personen mit Gehbehinderung nicht geeignet.&amp;nbsp;&lt;/p&gt; 
DTSTART:20140327T150000
DTEND:20140327T170000
LOCATION:Prinzregententheater (im Foyer) - Prinzregentenplatz 12
ORGANIZER:MVHS München Ost
END:VEVENT
END:VCALENDAR