BEGIN:VCALENDAR
VERSION:2.0
PRODID:-//Stadtgeschichte München//DE
CALSCALE:GREGORIAN
BEGIN:VEVENT
UID:8911@stadtgeschichte-muenchen.de
SUMMARY:Machen Sieden Stadtteilführerschein
DESCRIPTION:Sie fühlen sichwohl in Ihrem Stadtviertel und möchten sichsozialkulturell engagieren? Sie interessieren sich für Geschichte und können sich vorstellen, diese an andere zu vermitteln? Die Entwicklung Münchens und Ihres Stadtviertels ist lhnen nicht einerlei und Siemöchten auch andere dafür interessieren? Dann könnten Siebei unserem Projekt richtig sein: Wir suchen Menschen, die Lusthaben sich über Geschichte, Gegenwart und Zukunft Giesings so schlau zu machen, dass sie ihr neu erworbenes Stadtteil-Knowhow zukünftig auch in Führungen, Vorträgen und Workshops an andere Interessierte vermitteln könnten. Wir bieten ein Vortrags- und Führungsprogramm zur Geschichte Giesings vom Bauerndorf über das Arbeiterviertel bis zum aufstrebenden Trend-Wohnviertel an. Darüber hinaus gibt es eine Einführung in die Arbeit in Archiven und Museen mit Vor-Ort-Terminen. Mit umfangreichem Anschauungsmaterial (Skripten, Fotound Material-CD) und der Möglichkeit, ein Abschluss-Zertifikat zu enwerben. In Kooperation mit dem Verein der Freunde Giesings e.V. und mit Unterstützung der Bezirksausschüsse 17 Obergiesing-Fasangarten und 18 Untergiesing-Harlaching. 3 x fr 15.30 bis 19.30 Uhr- 28.3. bis 11.4.2014 Jeweils ein Vortrag mit Diskussion und Führung und 3 weitere Archiv-&nbsp;und Museumstermine soweit 1 Abschlusskolloquium nach Vereinbarung
DTSTART:20140328T153000
DTEND:20140328T193000
LOCATION:Volkshochschule Severinstr. 6
ORGANIZER:MVHS München Ost
END:VEVENT
END:VCALENDAR