BEGIN:VCALENDAR
VERSION:2.0
PRODID:-//Stadtgeschichte München//DE
CALSCALE:GREGORIAN
BEGIN:VEVENT
UID:8981@stadtgeschichte-muenchen.de
SUMMARY:Die renovierte Klosterkircheder Benediktinerabtei Schäftlarn
DESCRIPTION:Die Klosterkirche der Benediktinerabtei Schäftlarn ist ein Schmuckstück im Isartal und immer eine Besichtigung wert. 1760 wurde sie geweiht, etwa 1764 wurde der letzte Altarangebracht. Solch ein Bauwerk will erhalten werden—über Jahre hinweg wurde die Kirche aufwändig saniert, seit Sommer 2011 sind die Renovierungsarbeiten abgeschlossen. Neben der Stabilisierungdes Dachstuhls wurden unter anderem Stuckarbeiten vergoldet, Bilder gereinigt, Übermalungen beseitigt. Für Stuckaturen, Fresken und Bildhauerarbeiten zeichneten beim Bauder Kirche keine geringeren als Johann Baptist Zimmermann und Johann Baptist Straub verantwortlich. Was geschieht bei einer so aufwändigen Renovierung? Viele Fragen stellen sich hier, unter anderem die, wie man das Fresko in die Kuppelgebracht hat!&nbsp;
DTSTART:20140522T170000
DTEND:20140522T183000
LOCATION:Eingang zur Klosterkirche der Benediktinerabtei Schäftlarn
ORGANIZER:MVHS München Ost
END:VEVENT
END:VCALENDAR