BEGIN:VCALENDAR
VERSION:2.0
PRODID:-//Stadtgeschichte München//DE
CALSCALE:GREGORIAN
BEGIN:VEVENT
UID:8985@stadtgeschichte-muenchen.de
SUMMARY:Durch die Parkanlage des Isar-Amper-Klinikums München Ost
DESCRIPTION:Eine Zeitreise in die Vergangenheit und Entwicklung der Psychiatrie „Unberechtigten Zutritt verboten! ” stand auf dem alten Hinweisschild des Nervenkrankenhauses Haar bis 1970. Das ssich hier ein einmaliges Ensemble mit kunstgeschichtlichen Besonderheiten zeigt, ist vielleicht nicht jedem bekannt: die einstige 1905 im Landhausstilgebaute Vorzeigeanstalt Eglfingund die 1912 gebaute Anstalt Haar mit prächtigen Jugendstilgebäuden und einer einzigartigen Jugendstilkirche (Architekt Richard Neithardt). Umgeben sind diese mit liebevollen architektonischen Details ausgestatteten Gebäude von Gärten und jahrhundertealten Bäumen.Das Areal HaarI I wurde 2010 an eine Wohnbaugesellschaft verkauft und wird bis 2016 geräumt, die Stationen geschlossen. Im Gegenzug werden in Haar I neue Gebäude errichtet. Hinweis: Der Rundgang dauert drei Stunden mit einer kurzen Kaffeepause, für Gehbehinderte nicht geeignet.&nbsp;
DTSTART:20140524T100000
DTEND:20140524T130000
LOCATION:am Kleinen Theater Haar - Casinostr. 76, Eingang Leibstr.
ORGANIZER:MVHS München Ost
END:VEVENT
END:VCALENDAR