BEGIN:VCALENDAR
VERSION:2.0
PRODID:-//Stadtgeschichte München//DE
CALSCALE:GREGORIAN
BEGIN:VEVENT
UID:8986@stadtgeschichte-muenchen.de
SUMMARY:Führung durch den Bayerischen Landtag
DESCRIPTION:&lt;p&gt;Nacheiner Einführung in die Aufgaben und Arbeitsweise des Bayerischen Landtags geht es auf die Zuschauertribüne des Maximilianeums, um in einer Plenarsitzung das aktuelle Politikgeschehen zu verfolgen. DerAbgeordnete für den StimmkreisAltstadt-Hadern, Georg Eisenreich, seit 2003 \'im Landtag und seit 2013 Kultusstaatssekretär, beantwortet anschließend Ihre Fragenund diskutiert über Themenaus dem Stimmkreis, die momentan im Landtag eine Rollespielen. ZumAbschluss gibt es einen Imbissin der Landtagskantine.&lt;/p&gt; 
DTSTART:20140724T150000
DTEND:20140724T190000
LOCATION:Maximilianeum, Westpforte (Vorderseite des Gebäudes)
ORGANIZER:MVHS München Süd
END:VEVENT
END:VCALENDAR