BEGIN:VCALENDAR
VERSION:2.0
PRODID:-//Stadtgeschichte München//DE
CALSCALE:GREGORIAN
BEGIN:VEVENT
UID:9002@stadtgeschichte-muenchen.de
SUMMARY:Das Sozialbürgerhaus Sendling
DESCRIPTION:Seit über 80 Jahren kennen die Sendlinger im Münchner Süden das Hausin der Meindlstraße 20 als „ihr“ Sozialamt—Allgemeiner Sozialdienst— Sozialbürgerhaus. Seit der Erbauung durch Stadtbaurat Grässel in der Amtszeit der Stadträtin Luise Kiesselbach beherbergt das Gebäude die örtliche kommunale Sozialverwaltung—heute ein Sozialbürgerhaus mit zeitgemäßen Angeboten für die Bürgerinnen und Bürger unseres Stadtteils. Wasverbirgt sich eigentlich hinter demBegriff „Sozialvenwaltung“? Wohin wenden sich die Bürgerinnen und Bürger, wenn Probleme auftauchen, zum Beispiel Arbeitslosigkeit, die Wohnung gekündigt ist oder Schwierigkeiten in der Familiebestehen? Darüber möchten wir Sie in einem erlebnisreichen Gang durch das Hausu nd den zusätzlichen Neubau( Meindlstr. 16) informieren.
DTSTART:20140702T160000
DTEND:20140702T183000
LOCATION:Sozialbürgerhaus Sendling\' Meindlstr. 20, Foyer
ORGANIZER:MVHS München Süd
END:VEVENT
END:VCALENDAR