BEGIN:VCALENDAR
VERSION:2.0
PRODID:-//Stadtgeschichte München//DE
CALSCALE:GREGORIAN
BEGIN:VEVENT
UID:9034@stadtgeschichte-muenchen.de
SUMMARY:Sehenswürdigkeiten und botanische Besonderheiten im Westpark-Ostteil
DESCRIPTION:Der Westpark zählt zu den schönsten Parks Münchens. Im Ostteil befinden sich etliche einmalige Besonderheiten. Dabei ist vor allem das ganz aus Schiefererbaute Sardenhaus mit seiner daneben stehenden Nurage hervorzuheben, in der wir bei Gelegenheit kurz eine der regelmäßigen Kunstausstellungen besuchen werden. Zuen Nähnen ist auch die Anlage des künstlichen Bachlaufs, das etwas abseits liegende Teichbiotop, der Biergarten und Terrasse mit den beiden uralten Eichen. Nicht zu vergessen der wunderschön angelegten Ostsee, mit seinen in ganz München nur hierzu sehenden im Wasser stehenden Sumpfzypressen, auf dem Enten- und Gänsearten schwimmen und sich Wasserschildkröten sonnen, sowie den im Umkreisbefindlichen weit— geschwungenen Blumenanpflanzungen (siehe auch CS3248 E).
DTSTART:20140831T140000
DTEND:20140831T163000
LOCATION:U-Bahnhof Westpark (U6), Westpark Aufgang Baumgartnerstr. Haltestelle Bus134 
ORGANIZER:MVHS München Süd
END:VEVENT
END:VCALENDAR