BEGIN:VCALENDAR
VERSION:2.0
PRODID:-//Stadtgeschichte München//DE
CALSCALE:GREGORIAN
BEGIN:VEVENT
UID:9041@stadtgeschichte-muenchen.de
SUMMARY:„Sonntags-Radln zum Flaucher
DESCRIPTION:Der Flaucher-Park zwischen Großem Stadtbach und Isar erfreut sich größter Beliebtheit. Ab 1839 wurde er als erster kommunaler Park auf Initiative von Bürgermeister Jakob Bauer angelegt —als raues Kontrastprogramm zum gepflegten Landschaftspark, dem Englischen Garten, der 2014 schon 225 Jahre alt wird. Eine themenintegrierte Spurensuche, die historische Entwicklung und aktuelle Probleme transparent macht mit folgenden Schwerpunkten: Bürgermeister-Bauer-Denkmal, Friedenseiche, Isar-Renaturierung, Optimierung des Wegesystems und denkbare Konsequenzen aus dem laufenden Wasserrechtsverfahren für das IsarvverkIII (Braunauer Eisenbahnbrücke), dessen Konzession abgelaufen ist. In Kooperation mit der Sendlinger Kulturschmiede und im Rahmen der Ausstellung „175 Jahre Flaucher“ in der Sendlinger Kulturschmiede, Daiserstr. 22.&nbsp;
DTSTART:20140720T103000
DTEND:20140720T123000
LOCATION:Wittelsbacher Brücke, Baldeplatz mit Radl\'
ORGANIZER:MVHS München Süd
END:VEVENT
END:VCALENDAR