BEGIN:VCALENDAR
VERSION:2.0
PRODID:-//Stadtgeschichte München//DE
CALSCALE:GREGORIAN
BEGIN:VEVENT
UID:9042@stadtgeschichte-muenchen.de
SUMMARY:Vom Heizkraftwerk zum Möbelwerk
DESCRIPTION:Seit 2011 wird das weithin sichtbare Heizkraftwerk Obersendling an der Drygalski-Allee umgebaut und verändert sein Bild als Industriedenkmal hin zu einem modernen Ausstellungs- und Betriebsgebäude der Fa. KARE. bitte wie folgt &nbsp;zu einer modernen Designhaus für die Zukunfts des Wohnens des Unternehmens Kare Design. &nbsp;Bei einem Rundgang werden die Geschichte der Umbaumaßnahmen, die umfangreichen Bauarbeiten und Veränderungen aufgezeigt und das neu entstehendes Haus des Wohnens (nicht Betriebsgebäude) vorgestellt (siehe auch Fotoausstellung von Sascha Kletzsch „Kraftwerk“).&nbsp;
DTSTART:20140808T160000
DTEND:20140808T173000
LOCATION:KARE Design - Drygalski-Allee 25
ORGANIZER:MVHS München Süd
END:VEVENT
END:VCALENDAR