BEGIN:VCALENDAR
VERSION:2.0
PRODID:-//Stadtgeschichte München//DE
CALSCALE:GREGORIAN
BEGIN:VEVENT
UID:9043@stadtgeschichte-muenchen.de
SUMMARY:Masterplan für Obersendling?
DESCRIPTION:&lt;p&gt;Aufgrund des anhaltenden Bevölkerungswachstums in der Region München wird in den nächsten Jahren ein Akzent der Stadtentwicklung auf zusätzlichem Wohnungsbau liegen. Dazu sind neben Wohnungen eine Menge an infrastrukturellen Voraussetzungen zu erfüllen, u.a. Schulen, Kitas, Einkaufsmöglichkeiten. Wie lässt sich in Gebieten wie Obersendling eine entsprechende Umstrukturierung steuern? Dazu wird das Stichwort „Masterplan“ vorn Bezirksausschuss immerwieder vorgebracht, aber bisher nur in Ansätzen von der Stadtverwaltung weiterverfolgt. Was kann ein Masterplan leisten, und welche Planungsinstrumente stehen zur Verfügung? Wie sehen die Ideenfür die langfristige Entwicklung in Obersendling inhaltlich aus? Wie kann eine Bürgerbeteiligung aussehen? Und lassen sich die Ideeneines Leitbildes in konkrete Stadtplanungumsetzen?&amp;nbsp;&lt;/p&gt; 
DTSTART:20140510T103000
DTEND:20140510T120000
LOCATION:Volkshochschule - Forstenrieder Allee 61
ORGANIZER:MVHS München Süd
END:VEVENT
END:VCALENDAR