BEGIN:VCALENDAR
VERSION:2.0
PRODID:-//Stadtgeschichte München//DE
CALSCALE:GREGORIAN
BEGIN:VEVENT
UID:9047@stadtgeschichte-muenchen.de
SUMMARY:Solln:beschauliches Dorf und Kloster Warngau
DESCRIPTION:Erleben Sie die Fülle und den Abwechslungsreichtum Alt-Sollns! Der&nbsp;Spaziergang erkundet den größten und vielleicht schönsten als Ganzheit denkmalgeschützten Dorfkern des Münchner Stadtgebietes,&nbsp;erinnert an Bauern und Künstler, die hier lebten, und führt zu der bemerkenswerten historisierenden Pfarrkirche St. Johann Baptist mit ihren&nbsp;mittelalterlichen Schätzen und zur reizenden alten Dorfkirche. Kein Wunder, dass es um 1900 Wohlhabende, Künstler und Gelehrte&nbsp;hierher zog - mit ihren Häusern trugen sie selbst zur Schönheit des&nbsp;idyllischen Münchner Vorortes bei.
DTSTART:20140514T143000
DTEND:20140514T163000
LOCATION:Pfarrkirche St. Johann Baptist, Fellererplatz
ORGANIZER:MVHS München Süd
END:VEVENT
END:VCALENDAR