BEGIN:VCALENDAR
VERSION:2.0
PRODID:-//Stadtgeschichte München//DE
CALSCALE:GREGORIAN
BEGIN:VEVENT
UID:905@stadtgeschichte-muenchen.de
SUMMARY:Der Münchner Hofgarten
DESCRIPTION:
DTSTART:20110702T140000
DTEND:20110702T000000
LOCATION:Kasse Residenzmuseum
ORGANIZER:Bayerische Schlösserverwaltung
END:VEVENT
END:VCALENDAR