BEGIN:VCALENDAR
VERSION:2.0
PRODID:-//Stadtgeschichte München//DE
CALSCALE:GREGORIAN
BEGIN:VEVENT
UID:9053@stadtgeschichte-muenchen.de
SUMMARY:Kultour - Radtour Forstenrieder Park
DESCRIPTION:Mehr als 400 Jahre lang gehörte das südliche Bayernzum römischen Reich. Heute wird der Verlauf der wichtigen Römerstraße Salzburg- Augsburg—Günzburg durch das Projekt „Via Julia” wiederbelebt. Auf einem Abschnitt des historischen Straßenverlaufs können wir bei dieser Radtour die Spuren der Römer und andere Zeugnisse der frühen bayerischen Geschichte „erfahren“. Römische Meilensteine, Keltenschanzen, abgegangene Burganlagen, Infotafeln und Fundstücke in Standortvitrinen am Wegrand machendie Vergangenheit lebendig. Streckenlänge ca. 28 km mit einigen, leichten Steigungen. Die Veranstaltung findet beijedem Wetter statt. Bitte ggf. wetterfeste Kleidung mitnehmen.&nbsp;
DTSTART:20140517T130000
DTEND:20140517T180000
LOCATION:Max-Lebsche-Platz
ORGANIZER:MVHS München Süd
END:VEVENT
END:VCALENDAR