BEGIN:VCALENDAR
VERSION:2.0
PRODID:-//Stadtgeschichte München//DE
CALSCALE:GREGORIAN
BEGIN:VEVENT
UID:9059@stadtgeschichte-muenchen.de
SUMMARY:Freiham,der neue Nachbarstadtteil von Aubing-Neuaubing nimmt
DESCRIPTION:Stadtteilradtour in Aubing, Neuaubing und Freiham Gestalt an—und die ersten „Neu-Freihamer\" sind schon eingezogen. Die Tour führt vom Westkreuz zu den Gewerbegebieten, zum Gleisdreieck, zur Bodenseestraße bis Freiham (u.a. Schloss,neuer Bahnhof). So werden die Bebauungspläne und die zukünftigen Bebauungsschritte „erradelt“—ergänzt von entsprechenden Hintergrundinformationen und Gesprächen über die weitere städtebauliche Entwicklung— aber auch über die Verkehrssituation, die heutigen und zukünftigen Probleme oder Chancen für die Region. Radstrecke ca. 10 km.&nbsp;
DTSTART:20140510T110000
DTEND:20140510T140000
LOCATION:S-Bahnhof Westkreuz
ORGANIZER:MVHS München West
END:VEVENT
END:VCALENDAR