BEGIN:VCALENDAR
VERSION:2.0
PRODID:-//Stadtgeschichte München//DE
CALSCALE:GREGORIAN
BEGIN:VEVENT
UID:9061@stadtgeschichte-muenchen.de
SUMMARY:Das Gut Freiham im Münchner Westen
DESCRIPTION:Imposante Herrensitze gab es nicht nur in Nord-, Mittel- und Ostdeutschland oder im ehemaligen Ostpreußen und Schlesien:n eben S-Bahn, Autobahn, Gewerbegebiet und Biergarten schlummert im Münchner Umland ein Kleinod aus einer längst vergangenen Zeit. Wir erkunden das Herrenhaus mit seinem Park, den Gutshof mit seinen Wirtschaftsgebäuden und die Alleen als Bindeglieder zur umgebenden Landschaft.&nbsp;
DTSTART:20140726T110000
DTEND:20140726T130000
LOCATION:Parkmauer vor dem Herrenhaus
ORGANIZER:MVHS München West
END:VEVENT
END:VCALENDAR