BEGIN:VCALENDAR
VERSION:2.0
PRODID:-//Stadtgeschichte München//DE
CALSCALE:GREGORIAN
BEGIN:VEVENT
UID:9063@stadtgeschichte-muenchen.de
SUMMARY:Das Steinway-Haus München
DESCRIPTION:Das renommierte Steinway-Haus München kann auf eine lange, erfolgreiche Geschichte zurückblicken. 1912 von Karl Lang gegründet,&nbsp;entwickelte sich das Familienunternehmen schnell zum größten Klavierfachgeschäft Deutschlands. In edlem Ambiente präsentieren wir&nbsp;Ihnen die berühmtesten und begehrtesten Fabrikate: „Steinway &amp;&nbsp;Sons\". Bei&nbsp;einem Vortrag und einer Führung durch die Werkstätte&nbsp;des Steinway-Hauses erhalten Sie Einblick in den Aufbau und die&nbsp;Fertigung der weltberühmten Flügel. &nbsp;
DTSTART:20140417T143000
DTEND:20140417T153000
LOCATION:Steinway-Haus • Landsberger Str. 336 
ORGANIZER:MVHS München West
END:VEVENT
END:VCALENDAR