BEGIN:VCALENDAR
VERSION:2.0
PRODID:-//Stadtgeschichte München//DE
CALSCALE:GREGORIAN
BEGIN:VEVENT
UID:9066@stadtgeschichte-muenchen.de
SUMMARY:Die Volkartstraße - vom Dorfplatz zum Schießplatz
DESCRIPTION:Die Volkartstraße führt vomehemaligen Mittelpunkt des Dorfes Neuhausen bis fast an die Grenze des militärisch genutzten Oberwiesenfeldes. Die Entwicklungsgeschichte des Stadtteils ist hier deutlich nachvollziehbar. Seit Beginn des 20. Jahrhunderts ist die Volkartstraße eine der am dichtesten besiedelten Straßen Neuhausens. Durch die häufig noch erhaltene alte Bausubstanz hat sie ihr Gesicht in den letzten 100 Jahren kaum verändert. In Zusammenarbeit mit der Geschichtswerkstatt Neuhausen e.V.&nbsp;
DTSTART:20140529T140000
DTEND:20140529T160000
LOCATION:Vor dem Großwirt, Volkartstr. 2 
ORGANIZER:MVHS München West
END:VEVENT
END:VCALENDAR