BEGIN:VCALENDAR
VERSION:2.0
PRODID:-//Stadtgeschichte München//DE
CALSCALE:GREGORIAN
BEGIN:VEVENT
UID:9074@stadtgeschichte-muenchen.de
SUMMARY:350 Jahre „Borgo delle Ninfe\"
DESCRIPTION:Kurfürstin Henriette Adelaide von Savoyen erhielt am 1. Juli 1663 die „Schwaige Kemnath\" vom Kurfüsten als Geschenk. Das war die Basis für die Nymphenburger Schlossanlage, und ein Jahr später nahmen die Geschichte und die Geschichten ihren Lauf Der Vortrag nimmt nicht das Hauptschloss oder die Parkburgen in den Fokus, sondern weniger Bekanntes, abseits der Führungslinien: die Eisenbahnversuche von Joseph von Baader im Schlosspark, interessante Vorgänge um die Menagerie von König MaxI. Joseph und die Freibäder der Wittelsbacher im Schlosspark. In Zusammenarbeit mit der Geschichtswerk— statt Neuhausen e.V.&nbsp;
DTSTART:20140521T180000
DTEND:20140521T193000
LOCATION:Volkshochschule Neuhauser Trafo Nymphenburger Str. 171a 
ORGANIZER:MVHS München West
END:VEVENT
END:VCALENDAR