BEGIN:VCALENDAR
VERSION:2.0
PRODID:-//Stadtgeschichte München//DE
CALSCALE:GREGORIAN
BEGIN:VEVENT
UID:9078@stadtgeschichte-muenchen.de
SUMMARY:Vom Ende des Nymphenburger Schlosskanals
DESCRIPTION:Überbleibsel barocker städtebaulicher Strukturen sind heute als grüne Oasen erlebbar und historisch eng mit dem Schlosspark Nymphenburg verwoben. Wir starten am westlichen Ende des Schlosskanals, folgen dann einer vom Schloss kommenden historischen Sichtachse zur Blutenburg. Wir erfahren Wissenswertes über Grünzüge in der Stadt und deren gärtnerische, ökologischeund städtebauliche Funktion. Der Weg führt vorbei an der Blutenburg zum Würmkanal und einem beschaulichen Inselgarten, zum Stadtpark Pasing mit seinen weiten Wiesenräumen und dem malerischen alten Baumbestand— ein Landschaftspark der ehemaligen „Gatterburg Tourende: südliches Ended es Pasinger Stadtparks in der Nähe des Übergangs zum Paul-Diehl-Park. Kombinierte Fahrradtour mit einigen Passagen zu Fuß.Tourlänge: ca 7 km.&nbsp;
DTSTART:20140628T140000
DTEND:20140628T163000
LOCATION:Bereich an der S-Bahnunterführung am Endeder Bärmannstr.
ORGANIZER:MVHS München West
END:VEVENT
END:VCALENDAR