BEGIN:VCALENDAR
VERSION:2.0
PRODID:-//Stadtgeschichte München//DE
CALSCALE:GREGORIAN
BEGIN:VEVENT
UID:9080@stadtgeschichte-muenchen.de
SUMMARY:Kreuze und Denkmale in Obermenzing
DESCRIPTION:Wer kennt sie alle, die Flur-‚ Gedenk- und Andachtskreuze in Obermenzing? Wer kennt die Denkmale, alte wie neue? DerV ortrag soll Sie dazu anregen, diese Orte zu erkennen, zu besuchen und mit Ihren Gedanken dem Sinndieser Kreuzeund Denkmalenachzugehen.&nbsp;
DTSTART:20140515T183000
DTEND:20140515T200000
LOCATION:Volkshochschule Bäckerstr. 14
ORGANIZER:MVHS München West
END:VEVENT
END:VCALENDAR