BEGIN:VCALENDAR
VERSION:2.0
PRODID:-//Stadtgeschichte München//DE
CALSCALE:GREGORIAN
BEGIN:VEVENT
UID:9082@stadtgeschichte-muenchen.de
SUMMARY:Pasing im Dritten Reich
DESCRIPTION:Begleitend zur gleichnamigen Ausstellung (siehe CW4000 Eund CW4004 E) stellen die Kuratoren Bernd-Michael Schülke und Bernhard Koch ihr Projekt vor, das im Sommer zur Ausstellung „Alles wird anders: Pasing im 3. Reich“ in der Pasinger Fabrik und zum gleichnamigen Begleitbuch führte: von der Idee bis zur Realisierung, von der Recherchein Archiven und Bibliotheken bis zur Arbeit mit Zeitzeugen. Ein weiterer Schwerpunkt des Vortrags ist der Zeitraum der Machtergreifung und Gleichschaltung der Pasinger Bevölkerung. Im Herbst 2014 wird die Reihe fortgesetzt.&nbsp;
DTSTART:20140528T193000
DTEND:20140528T210000
LOCATION:Volkshochschule -Bäckerstr. 14
ORGANIZER:MVHS München West
END:VEVENT
END:VCALENDAR