BEGIN:VCALENDAR
VERSION:2.0
PRODID:-//Stadtgeschichte München//DE
CALSCALE:GREGORIAN
BEGIN:VEVENT
UID:9084@stadtgeschichte-muenchen.de
SUMMARY:Lebensader Würm
DESCRIPTION:Die Geschichte Pasings kennen wir seit dem Jahr 763. Die Entwicklung diesese hemaligen Bauerndorfes war jahrhundertelang untrennbar mit dem FlussWürm verbunden. Hier betrieb man Mühlen, und seit dem 17. Jahrhundert nutzten auch einige Manufakturen die Würm als Energie- und Wasserquelle. Später wurde der bis dahin bis zu 100 Meter breite Fluss begradigt und in ein enges Bett gezwängt (eine Vorstellung von der ursprünglichen Auenlandschaft bekommen wir im Stadtgebiet noch am ehesten im Pasinger Stadtpark). Gleichzeitig lud das Wasser zum Vergnügen ein, denn mit den vielen Bahntouristen blühte in Pasing auch die Badekultur auf.&nbsp;
DTSTART:20140629T130000
DTEND:20140629T143000
LOCATION:Am Klostergarten vor der Kirche Mariae Geburt
ORGANIZER:MVHS München West
END:VEVENT
END:VCALENDAR