BEGIN:VCALENDAR
VERSION:2.0
PRODID:-//Stadtgeschichte München//DE
CALSCALE:GREGORIAN
BEGIN:VEVENT
UID:9085@stadtgeschichte-muenchen.de
SUMMARY:Die Würm in Pasing — von Hüttenbädern und alten Schlössern
DESCRIPTION:Für Kinder ab acht Jahren mit ihren Eltern/Großeltern Die Würmschlängelt sich durch ganz Pasing—und auf der „Würminsel\" stand vor Urzeiten daserste Schloss,mit dem alles begann. Wir wandeln auf den Spurender mittelalterlichen Pasinger Schlösserim schönen Klostergarten der Englischen Fräulein.Anschließend suchen wir nach den Orten der ehemaligen Würmbäder, in denen die Pasinger und die vielen Sonntagsausflügler bis zum Bau des Westbades im Sommerbaden und im Winter Schlittschuh laufen konnten. Wie war das damals eigentlich —durften die Damen früher wirklich nur voll bekleidet insWasser, um baden zu können? Und was war ein Hüttenbad? Am Ende des Spaziergangs treffen wir uns zum Frühstück im Kindercafe in der PasingerFabrik. In Kooperation mit Kultur&amp;Spielraum e.V. und „Lust auf Kunst!\"&nbsp;
DTSTART:20140518T093000
DTEND:20140518T110000
LOCATION:Congregatio Jesu, Planegger-/ EckeInstitutstr.
ORGANIZER:MVHS München West
END:VEVENT
END:VCALENDAR