BEGIN:VCALENDAR
VERSION:2.0
PRODID:-//Stadtgeschichte München//DE
CALSCALE:GREGORIAN
BEGIN:VEVENT
UID:9122@stadtgeschichte-muenchen.de
SUMMARY:Neue Seherfahrungen im Blick nach oben
DESCRIPTION:
DTSTART:20140413T140000
DTEND:20140413T000000
LOCATION:Kasse Neues Schloss Schleißheim
ORGANIZER:Bayerische Schlösserverwaltung
END:VEVENT
END:VCALENDAR