BEGIN:VCALENDAR
VERSION:2.0
PRODID:-//Stadtgeschichte München//DE
CALSCALE:GREGORIAN
BEGIN:VEVENT
UID:9135@stadtgeschichte-muenchen.de
SUMMARY:Landschaftsmalerei im Barock
DESCRIPTION:
DTSTART:20140504T140000
DTEND:20140504T000000
LOCATION:Kasse Neues Schloss Schleißheim
ORGANIZER:Bayerische Schlösserverwaltung
END:VEVENT
END:VCALENDAR