BEGIN:VCALENDAR
VERSION:2.0
PRODID:-//Stadtgeschichte München//DE
CALSCALE:GREGORIAN
BEGIN:VEVENT
UID:9141@stadtgeschichte-muenchen.de
SUMMARY:Höfische Vergnügungen:
DESCRIPTION:
DTSTART:20140513T163000
DTEND:20140513T000000
LOCATION:Haupteingang Schloss Nymphenburg
ORGANIZER:Bayerische Schlösserverwaltung
END:VEVENT
END:VCALENDAR