BEGIN:VCALENDAR
VERSION:2.0
PRODID:-//Stadtgeschichte München//DE
CALSCALE:GREGORIAN
BEGIN:VEVENT
UID:9143@stadtgeschichte-muenchen.de
SUMMARY:350 Jahre Schloss Nymphenburg
DESCRIPTION:Führungen am Internationalen&nbsp;Museumstag »Sammeln verbindet«
DTSTART:20140518T090000
DTEND:20140518T000000
LOCATION:Haupteingang Schloss Nymphenburg
ORGANIZER:Bayerische Schlösserverwaltung
END:VEVENT
END:VCALENDAR