BEGIN:VCALENDAR
VERSION:2.0
PRODID:-//Stadtgeschichte München//DE
CALSCALE:GREGORIAN
BEGIN:VEVENT
UID:9145@stadtgeschichte-muenchen.de
SUMMARY:Tolle Kleider ‐ Schöne Frauen
DESCRIPTION:Zu den Damen in der Schönheitengalerie König Ludwigs I. und zu den Kleidern, die sie trugen. Schnitttechniken vor 150 Jahren&nbsp;
DTSTART:20140518T100000
DTEND:20140518T000000
LOCATION:Haupteingang Schloss Nymphenburg
ORGANIZER:Bayerische Schlösserverwaltung
END:VEVENT
END:VCALENDAR