BEGIN:VCALENDAR
VERSION:2.0
PRODID:-//Stadtgeschichte München//DE
CALSCALE:GREGORIAN
BEGIN:VEVENT
UID:9150@stadtgeschichte-muenchen.de
SUMMARY:Mit der Kutsche unterwegs
DESCRIPTION:
DTSTART:20140518T150000
DTEND:20140518T000000
LOCATION:Haupteingang Schloss Nymphenburg
ORGANIZER:Bayerische Schlösserverwaltung
END:VEVENT
END:VCALENDAR