BEGIN:VCALENDAR
VERSION:2.0
PRODID:-//Stadtgeschichte München//DE
CALSCALE:GREGORIAN
BEGIN:VEVENT
UID:9262@stadtgeschichte-muenchen.de
SUMMARY:Kurfürst Karl Theodor in Nymphenburg
DESCRIPTION:
DTSTART:20140610T163000
DTEND:20140610T000000
LOCATION:Haupteingang Schloss Nymphenburg
ORGANIZER:Bayerische Schlösserverwaltung
END:VEVENT
END:VCALENDAR