BEGIN:VCALENDAR
VERSION:2.0
PRODID:-//Stadtgeschichte München//DE
CALSCALE:GREGORIAN
BEGIN:VEVENT
UID:9267@stadtgeschichte-muenchen.de
SUMMARY:Zwischen Kindheit und Ruhestand König Ludwig I. und Nymphenburg.
DESCRIPTION:Mit Besuch des so genannten »Hexenhäuschens«
DTSTART:20140617T163000
DTEND:20140617T000000
LOCATION:Haupteingang Schloss Nymphenburg
ORGANIZER:Bayerische Schlösserverwaltung
END:VEVENT
END:VCALENDAR