BEGIN:VCALENDAR
VERSION:2.0
PRODID:-//Stadtgeschichte München//DE
CALSCALE:GREGORIAN
BEGIN:VEVENT
UID:9270@stadtgeschichte-muenchen.de
SUMMARY:Der Schleißheimer Kanal und seine Geschichte
DESCRIPTION:Führung mit dem eigenen Fahrrad Ziel: Biergarten »Aumeister« im Englischen Garten Teilnehmerbeschränkung - Bitte anmelden: Tel. (089) 179 08-444
DTSTART:20140622T140000
DTEND:20140622T000000
LOCATION:Kasse Neues Schloss Schleißheim
ORGANIZER:Bayerische Schlösserverwaltung
END:VEVENT
END:VCALENDAR