BEGIN:VCALENDAR
VERSION:2.0
PRODID:-//Stadtgeschichte München//DE
CALSCALE:GREGORIAN
BEGIN:VEVENT
UID:934@stadtgeschichte-muenchen.de
SUMMARY:Die Boulle-Möbel in der Münchner Residenz
DESCRIPTION:
DTSTART:20110814T133000
DTEND:20110814T000000
LOCATION:Kasse Residenzmuseum 
ORGANIZER:Bayerische Schlösserverwaltung
END:VEVENT
END:VCALENDAR