BEGIN:VCALENDAR
VERSION:2.0
PRODID:-//Stadtgeschichte München//DE
CALSCALE:GREGORIAN
BEGIN:VEVENT
UID:945@stadtgeschichte-muenchen.de
SUMMARY:Der Dachstuhl von Schloss Nymphenburg
DESCRIPTION:&lt;p&gt;Bitte anmelden: Tel. (0 89) 179 08-444&lt;/p&gt;
DTSTART:20110830T163000
DTEND:20110830T000000
LOCATION:Museumsladen Schloss Nymphenburg
ORGANIZER:Bayerische Schlösserverwaltung
END:VEVENT
END:VCALENDAR