BEGIN:VCALENDAR
VERSION:2.0
PRODID:-//Stadtgeschichte München//DE
CALSCALE:GREGORIAN
BEGIN:VEVENT
UID:9844@stadtgeschichte-muenchen.de
SUMMARY:Dreifaltigkeitskirche
DESCRIPTION:Mit der Dreifaltigkeitskirche lernen Sie ein Münchner Barockjuwel kennen. Ihre Entstehung geht zurück auf ein Gelübde aus der Zeit des Spanischen Erbfolgekrieges. Damals versprachen die Münchner Stände den Bau einer Kirche, um die Stadt vor Zerstörung zu bewahren.
DTSTART:20140916T140000
DTEND:20140916T150000
LOCATION:Dreifaltigkeitskirche - unter der Orgelempore
ORGANIZER:Münchner Bildungswerk e.V.
END:VEVENT
END:VCALENDAR