BEGIN:VCALENDAR
VERSION:2.0
PRODID:-//Stadtgeschichte München//DE
CALSCALE:GREGORIAN
BEGIN:VEVENT
UID:985@stadtgeschichte-muenchen.de
SUMMARY:Orte höfischen Zeitvertreibs
DESCRIPTION:
DTSTART:20110712T163000
DTEND:20110712T000000
LOCATION:Museumsladen Schloss Nymphenburg
ORGANIZER:Bayerische Schlösserverwaltung
END:VEVENT
END:VCALENDAR