BEGIN:VCALENDAR
VERSION:2.0
PRODID:-//Stadtgeschichte München//DE
CALSCALE:GREGORIAN
BEGIN:VEVENT
UID:9910@stadtgeschichte-muenchen.de
SUMMARY:\"München leuchtete...\"
DESCRIPTION:Nicht wenige erklären die Prinzregentenjahre zur „guten, alten“ Zeit. &nbsp;Der 100. Todestag &nbsp;des Monarchen am 12.12.2012 ist Anlass auf &nbsp;die mehr als 25 Jahre unter seiner Ägide zurückzublicken. Nach dem schwierigen Start als Verdränger des bald verklärten Märchenkönigs &nbsp;gelang dem „Verweser“ des Königreichs ein fulminanter Imagewandel. Der vormals eher unscheinbare alte Herr &nbsp;mutierte &nbsp;zum hochgeschätzten, gütigen „Vater der Bayern“. Sein Prinzregenten-Titel ist mit vielen Münchner Bauten verbunden, seine &nbsp;Persönlichkeit aber fast &nbsp;in Vergessenheit geraten. &nbsp; Sie benötigen ein MVV-Ticket Endpunkt: Marienplatz &nbsp;
DTSTART:20140524T150000
DTEND:20140524T170000
LOCATION:Vor dem Prinzregentendenkmal beim Bayerischen Nationalmusuem (Prinzregentenstraße 3) Tram / Bus: Nationalmuseum/Haus der Kunst (Sie benötigen ein MVV-
ORGANIZER:STATTreisen München e.V.
END:VEVENT
END:VCALENDAR