BEGIN:VCALENDAR
VERSION:2.0
PRODID:-//Stadtgeschichte München//DE
CALSCALE:GREGORIAN
BEGIN:VEVENT
UID:9920@stadtgeschichte-muenchen.de
SUMMARY:Facelifting im Millionendorf
DESCRIPTION:Das Gesicht Münchens hat sich in den letzten Jahren verändert, zahlreiche neue Bauten sind entstanden, alte Brachflächen und Baulücken wurden genutzt und bei Umbauten Alt mit Neu kombiniert. Auf unserem Weg durch die Innenstadt zeigen wir Beispiele moderner Architektur, wie die Hofstatt-Passage, &nbsp;das neue Jüdische Zentrum und \"The Seven\", ein Wohnhochhaus im ehemaligen Heizkraftwerk. Neben prominenten Aushängeschildern finden wir aber auch weniger bekannte Architekturjuwele, die Aufmerksamkeit und Interesse verdienen. Schließlich werfen wir noch einen Blick auf aktuelle Großprojekte und Baustellen, die die Zukunft der City massiv verändern werden. &nbsp; Nach dem Rundgang mit unserer Spezialistin für Architektur, selbst Frau vom Fach, werden Sie die Neue Architektur in München mit anderen Augen sehen! &nbsp; Endpunkt: Salvatorplatz
DTSTART:20140601T110000
DTEND:20140601T130000
LOCATION:Ecke Müller-/Theklastr. 
ORGANIZER:STATTreisen München e.V.
END:VEVENT
END:VCALENDAR