BEGIN:VCALENDAR
VERSION:2.0
PRODID:-//Stadtgeschichte München//DE
CALSCALE:GREGORIAN
BEGIN:VEVENT
UID:9939@stadtgeschichte-muenchen.de
SUMMARY:Eröffnung der Ausstellung „Wenn der Kaiser ruft“
DESCRIPTION:Zur Geschichte des Wehramtsgebäudes (heute Stadtarchiv) an der Winzererstraße 68 &nbsp; Öffnungszeiten: Mo, Di, Do 9-18 Uhr; Mi und Fr 9‐12 Uhr (bis 31. Oktober 2014)
DTSTART:20140918T180000
DTEND:20140918T000000
LOCATION:
ORGANIZER:Staatsarchiv München
END:VEVENT
END:VCALENDAR