BEGIN:VCALENDAR
VERSION:2.0
PRODID:-//Stadtgeschichte München//DE
CALSCALE:GREGORIAN
BEGIN:VEVENT
UID:9952@stadtgeschichte-muenchen.de
SUMMARY:Die Magdalenenklause ‑ nur ein Ort klösterlicher Stille?
DESCRIPTION:
DTSTART:20140720T140000
DTEND:20140720T000000
LOCATION:Haupteingang Schloss Nymphenburg
ORGANIZER:Bayerische Schlösserverwaltung
END:VEVENT
END:VCALENDAR