BEGIN:VCALENDAR
VERSION:2.0
PRODID:-//Stadtgeschichte München//DE
CALSCALE:GREGORIAN
BEGIN:VEVENT
UID:9978@stadtgeschichte-muenchen.de
SUMMARY:Pünktlichkeit ist die Höflichkeit der Könige
DESCRIPTION:
DTSTART:20140826T163000
DTEND:20140826T000000
LOCATION:Haupteingang Schloss Nymphenburg
ORGANIZER:Bayerische Schlösserverwaltung
END:VEVENT
END:VCALENDAR